BEGIN:VCALENDAR
VERSION:2.0
PRODID:-//Eventin//Event Calendar//EN
CALSCALE:GREGORIAN
METHOD:PUBLISH
BEGIN:VEVENT
UID:10760f7712fe240af91b10bccb87bdf4@kaya-team-universe.org
SUMMARY:Conférence en trio 24 mai ‘Œuvrer avec la Fraternité’
DESCRIPTION:Conférence de Céline & Pierre Lassalle & Lucie Delalain\n« 
 Œuvrer avec la Fraternité » \nDimanche 24 mai 2026 à 14h\n \nVenez d
 écouvrir une conférence exceptionnelle se déroulant le même jour de la 
 Pentecôte d’il y a deux mille ans : Dimanche 24 mai 33 et dimanche 24 ma
 i 2026 !\nIl y a deux mille ans\, la première Communauté Christique se r
 éunissait autour de Marie pour recevoir l’Esprit Saint\, ou les effluves
  spirituelles de la Mère de la Vie : le Feu du ciel descendit sur eux !\nV
 enez comprendre ce qu’est réellement la Fraternité de nos jours\, et ce
  qu’elle sera dans le proche futur à l’ère du Verseau…\nVenez bâti
 r les premiers éléments de la communauté christique du futur en agissant
  dès maintenant\, afin d’être prêt pour accéder au Nouveau Monde !\n\
 n14h30   Accueil ~ Stands ~ Boissons & tapas bio \n15h30 Introduction mu
 sicale avec MusiKaya\n16h30  Conférence de Pierre \n\nAvec une seconde s
 ortie de livre aux éditions Terre de Lumière.\nEvénement immanquable ! A
 menez vos amis !\nNotre puissance en commun est bénédiction\,\nUn vœu du
  Saint Féminin\, blancheur en action\,\nEt les serviteurs se lèvent porte
 urs d’inclusion\,\nEn chevaliers pour la paix et la rédemption !\n \nIn
 formations :\n34160 Lunel [Hérault]\nUniquement sur réservationAuprès de
  l'association au 04 67 17 06 07contact@kaya-team-universe.org\nEntrée : 2
 0€\, adhérent 15€\n>> Télécharger le flyer <<\n> ou le flyer duo Pâ
 ques-Pentecôte <\n>> Adhérer à l'association <<
LOCATION:34160 Lunel - Hérault
DTSTAMP:20260423T150414Z
DTSTART:20260524T120000Z
DTEND:20260524T180000Z
END:VEVENT
END:VCALENDAR
